BEGIN:VCALENDAR
VERSION:2.0
PRODID:-//hacksw/handcal//NONSGML v1.0//EN
CALSCALE:GREGORIAN
BEGIN:VEVENT
ORGANIZER;CN=M&T Bank Corporation:MAILTO:no-reply@mail.gcs-web.com
DTEND:
UID:f9986d91-7f29-40c2-9262-e74803557993
DTSTAMP:1777044784
LOCATION:https://kvgo.com/barclays/m-and-t-bank-may-2026
DESCRIPTION:Event Details https://ir.mtb.com/events/event-details/barclays-americas-select-franchise-conference-2\n\nWebcast: https://kvgo.com/barclays/m-and-t-bank-may-2026
URL;VALUE=URI:https://kvgo.com/barclays/m-and-t-bank-may-2026
SUMMARY:M&T Bank Corporation - Barclays Americas Select Franchise Conference
DTSTART:20260505T084500Z
END:VEVENT
END:VCALENDAR